BEGIN:VCALENDAR
VERSION:2.0
PRODID:-//EUGendering - ECPv6.2.8.1//NONSGML v1.0//EN
CALSCALE:GREGORIAN
METHOD:PUBLISH
X-WR-CALNAME:EUGendering
X-ORIGINAL-URL:https://eugendering.eu
X-WR-CALDESC:Events for EUGendering
REFRESH-INTERVAL;VALUE=DURATION:PT1H
X-Robots-Tag:noindex
X-PUBLISHED-TTL:PT1H
BEGIN:VTIMEZONE
TZID:Europe/Paris
BEGIN:DAYLIGHT
TZOFFSETFROM:+0100
TZOFFSETTO:+0200
TZNAME:CEST
DTSTART:20230326T010000
END:DAYLIGHT
BEGIN:STANDARD
TZOFFSETFROM:+0200
TZOFFSETTO:+0100
TZNAME:CET
DTSTART:20231029T010000
END:STANDARD
END:VTIMEZONE
BEGIN:VEVENT
DTSTART;TZID=Europe/Paris:20230125T173000
DTEND;TZID=Europe/Paris:20230125T190000
DTSTAMP:20260421T215344
CREATED:20230111T143431Z
LAST-MODIFIED:20231218T143945Z
UID:2206-1674667800-1674673200@eugendering.eu
SUMMARY:The Conference on the Future of Europe and Gender: What's Next?
DESCRIPTION:From the Conference on the Future of Europe to a Feminist Europe. \nStarting with the presentation of the new Gender Five Plus report on Gender Equality and the Future of Europe\, this webinar will be an opportunity to discuss the results of the Conference on the Future of Europe from a gender perspective\, but also the policy recommendations needed to move towards a feminist Europe. \n  \n \n  \nPanellists: \n\nJéromine Andolfatto (European Women’s Lobby)\nGwendoline Delbos-Corfield (MEP\, Group of the Greens/European Free Alliance\nVictoire Olczak (Gender Five Plus)\nAlvaro Oleart (ULB)\nGaëtane Ricard-Nihoul (European Commission\, DG Communication\, responsible for Citizens’ Dialogue)
URL:https://eugendering.eu/event/test-event-25-jan/
LOCATION:Online (Teams)
END:VEVENT
END:VCALENDAR