BEGIN:VCALENDAR
VERSION:2.0
PRODID:-//EUGendering - ECPv6.2.8.1//NONSGML v1.0//EN
CALSCALE:GREGORIAN
METHOD:PUBLISH
X-WR-CALNAME:EUGendering
X-ORIGINAL-URL:https://eugendering.eu
X-WR-CALDESC:Events for EUGendering
REFRESH-INTERVAL;VALUE=DURATION:PT1H
X-Robots-Tag:noindex
X-PUBLISHED-TTL:PT1H
BEGIN:VTIMEZONE
TZID:Europe/Paris
BEGIN:DAYLIGHT
TZOFFSETFROM:+0100
TZOFFSETTO:+0200
TZNAME:CEST
DTSTART:20230326T010000
END:DAYLIGHT
BEGIN:STANDARD
TZOFFSETFROM:+0200
TZOFFSETTO:+0100
TZNAME:CET
DTSTART:20231029T010000
END:STANDARD
END:VTIMEZONE
BEGIN:VEVENT
DTSTART;TZID=Europe/Paris:20230215T120000
DTEND;TZID=Europe/Paris:20230215T153000
DTSTAMP:20260421T190311
CREATED:20230111T143748Z
LAST-MODIFIED:20231218T142638Z
UID:2209-1676462400-1676475000@eugendering.eu
SUMMARY:Que faut-il attendre de la proposition de directive sur la transparence salariale entre les femmes et les hommes ?
DESCRIPTION:Nicolas Moizard est professeur à l’Université de Strasbourg (Institut du travail). Spécialiste de droit social français et européen\, il travaille notamment sur les discriminations et sur la relation individuelle et collective du travail. Sur le sujet en lien avec le séminaire\, il a notamment publié « La proposition de directive sur la transparence salariale entre les femmes et les hommes\, avancées et incertitudes »\, Revue de droit du travail\, 2021\, p. 431-440. \n  \n \n  \n>>> Local P30\, 119 rue du marais (Université Saint-Louis – Bruxelles)
URL:https://eugendering.eu/event/que-faut-il-attendre-de-la-proposition-de-directive-sur-la-transparence-salariale-entre-les-femmes-et-les-hommes-2/
LOCATION:P30 (Préfecture) Université Saint-Louis – Bruxelles\, 119 rue du marais\, Bruxelles\, Belgium
END:VEVENT
END:VCALENDAR